BEGIN:VCALENDAR
VERSION:2.0
PRODID:https://github.com/derhansen/sf_event_mgt
METHOD:PUBLISH
BEGIN:VEVENT
UID:108-122@www.diakovere.de
CLASS: PUBLIC
SUMMARY:Patient*innenforum Hallux valgus und Vorfußbeschwerden
DESCRIPTION:Patient*innenforum Hallux valgus und Vorfußbeschwerden\n\nWeite
 re Informationen folgen.\n\nOrt: DIAKOVERE Annastift, Festsaal im Bruno-Val
 entin-Haus, Anna-von-Borries-Straße 6, 30625 Hannover/Kleefeld.Der Eintritt
  ist frei. Eine Anmeldung ist nicht erforderlich.Wir freuen uns auf Sie!
LOCATION:DIAKOVERE Annastift
DTSTAMP:20260421T132323Z
DTSTART:20260520T150000Z
DTEND:20260520T170000Z
END:VEVENT
END:VCALENDAR
