BEGIN:VCALENDAR
VERSION:2.0
PRODID:https://github.com/derhansen/sf_event_mgt
METHOD:PUBLISH
BEGIN:VEVENT
UID:110-122@www.diakovere.de
CLASS: PUBLIC
SUMMARY:Alles gut geregelt? Thema Bestattungen Testament und Erbrecht mit F
 okus auf alleinstehende Personen
DESCRIPTION:Testament und Erbrecht mit Fokus auf alleinstehende Personen. W
 eitere Informationen folgen.\n\nEine kostenfreie Veranstaltung der DIAKOVER
 E, dem Gesamtunternehmen von Annastift, Friederikenstift, Henriettenstift. 
 \n\nDIAKOVERE Henriettenstift, Großer Saal, Marienstraße 72–90, 30171 Hanno
 ver\n\nEintritt frei.\n\nAnmeldung: spenden@diakovere.de oder Tel. 0511 535
 4-4455.
LOCATION:DIAKOVERE Annastift
DTSTAMP:20260421T133315Z
DTSTART:20260623T130000Z
DTEND:20260623T140000Z
END:VEVENT
END:VCALENDAR
