BEGIN:VCALENDAR
VERSION:2.0
PRODID:https://github.com/derhansen/sf_event_mgt
METHOD:PUBLISH
BEGIN:VEVENT
UID:111-122@www.diakovere.de
CLASS: PUBLIC
SUMMARY:Patient*innenforum Lendenwirbelsäule
DESCRIPTION:Weitere Informationen folgen.\n\nOrt: DIAKOVERE Annastift, Fest
 saal im Bruno-Valentin-Haus, Anna-von-Borries-Straße 6, 30625 Hannover/Klee
 feld.Der Eintritt ist frei. Eine Anmeldung ist nicht erforderlich.Wir freue
 n uns auf Sie!
LOCATION:DIAKOVERE Annastift
DTSTAMP:20260421T133844Z
DTSTART:20260903T153000Z
DTEND:20260903T170000Z
END:VEVENT
END:VCALENDAR
