BEGIN:VCALENDAR
VERSION:2.0
PRODID:https://github.com/derhansen/sf_event_mgt
METHOD:PUBLISH
BEGIN:VEVENT
UID:109-122@www.diakovere.de
CLASS: PUBLIC
SUMMARY:DIAKOVERE Sommer-Rendezvous am Annastift
DESCRIPTION:DIAKOVERE Sommer-Rendezvous am Annastift\n\nWeitere Information
 en folgen.\n\nOrt: DIAKOVERE Annastift, Anna-von-Borries-Straße 1–7, 30625 
 HannoverDer Eintritt ist frei. Wir freuen uns auf Sie!
LOCATION:DIAKOVERE Annastift
DTSTAMP:20260421T132736Z
DTSTART:20260606T120000Z
DTEND:20260606T200000Z
END:VEVENT
END:VCALENDAR
