BEGIN:VCALENDAR
VERSION:2.0
PRODID:https://github.com/derhansen/sf_event_mgt
METHOD:PUBLISH
BEGIN:VEVENT
UID:27-122@www.diakovere.de
CLASS: PUBLIC
SUMMARY:DIAKOVERE tanzt
DESCRIPTION:tAnzNORMAL lädt zum inklusiver Tanzworkshop für alle mit und oh
 ne Handicap ein. Wir wollen Menschen unabhängig vom Alter, körperlichen Vor
 aussetzungen, Fremde und Freunde motivieren, sich zu bewegen oder mitzutanz
 en.\n\n Kostenlos, Anmeldung hier: www.diakovere.de/tanzt 
DTSTAMP:20250326T125344Z
DTSTART:20250430T140000Z
DTEND:20250430T153000Z
END:VEVENT
END:VCALENDAR
