BEGIN:VCALENDAR
VERSION:2.0
PRODID:https://github.com/derhansen/sf_event_mgt
METHOD:PUBLISH
BEGIN:VEVENT
UID:36-122@www.diakovere.de
CLASS: PUBLIC
SUMMARY:Dialog auf Augenhöhe - Wie geht es Ihnen mit Blick auf die Zukunft?
DESCRIPTION:In einer Zeit voller Herausforderungen – politisch, sozial und 
 ökologisch – möchten wir gemeinsam überlegen, wie wir mit dem wachsenden Dr
 uck umgehen. Können wir die Komplexität aushalten und uns wertschätzend beg
 egnen, ohne voreilige Urteile zu fällen? Wir laden Sie ein, in einem geschü
 tzten Rahmen zuzuhören und Ihre eigenen Positionen zu erkunden. Ziel ist es
 , eine dialogische Gesprächskultur zu fördern, in der Unterschiedlichkeit v
 erbindet statt trennt.\n\nWas erwartet Sie?\n\nIn Kleingruppengesprächen zu
  je vier Personen sprechen wir zu aktuellen Fragen.\n\nTermine und Frageste
 llungen\n\n28.04.2025, 16.00 – 17.30 Uhr: Wie geht es Ihnen mit Blick auf d
 ie Zukunft?28.05.2025, 16.00 – 17.30 Uhr: Deutschland als Einwanderungsland
 : Wie geht es Ihnen damit?24.06.2025, 16.00 – 17.30 Uhr: Mit Blick auf den 
 Klimawandel: Wie geht es Ihnen damit?\n\nWeitere Themenvorschläge werden ge
 meinsam gesammelt.\n\nStrukturierte erprobte Methode\n\nJede Person hat 4 M
 inuten Zeit, um ihre Gedanken zu teilen – reihum und ohne Unterbrechungen. 
 Wir führen drei Gesprächsrunden durch, um die Themen vertieft zu erkunden.\
 n\nAblauf\n\nEinführung in das Dialogformat und Vorstellung der Fragen.Klei
 ngruppenarbeit: 3 Gesprächsrunden à 4 Minuten pro PersonRückkehr ins Plenum
 : Sammlung von Eindrücken und Abschluss.\n\nOrtMarienstraße, Mutterhaus, Em
 my-Danckwerts-Raum\n\n\n\nAnsprechpersonenHeike Bade, Stabsstelle Ethik, Te
 lefon: 0511 289-2139Verena Altenhofen, Referentin Haus der Begegnung, Mobil
 : 0173 29 35 779 \n\nAnmeldungen: verena.altenhofen@diakovere.de
DTSTAMP:20250415T085249Z
DTSTART:20250428T140000Z
DTEND:20250428T153000Z
END:VEVENT
END:VCALENDAR
