BEGIN:VCALENDAR
VERSION:2.0
PRODID:https://github.com/derhansen/sf_event_mgt
METHOD:PUBLISH
BEGIN:VEVENT
UID:30-122@www.diakovere.de
CLASS: PUBLIC
SUMMARY:Nackenschmerzen - Was tun?
DESCRIPTION:Ursachen für NackenschmerzenKonservative BehandlungsformenWann 
 sollte operiert werden?Moderne OperationsverfahrenWas passiert nach der Ope
 ration?\n\nProf. Dr. med. Dorothea Daentzer und die Expert*innen aus dem De
 partment Gelenkorthopädie, konservative Orthopädie, Osteoporose und Wirbels
 äulenchirurgie im DIAKOVERE Annastift  informieren Sie über Probleme an der
  Halswirbelsäule und beantworten ausführlich Ihre Fragen.\n\nOrt: DIAKOVERE
  Annastift, Festsaal/Bruno-Valentin-Haus, Anna-von-Borries-Str. 6, 30625 Ha
 nnover/Kleefeld.\n\nEintritt frei. Eine Anmeldung ist nicht erforderlich. W
 ir freuen uns auf Sie!
LOCATION:DIAKOVERE Annastift
DTSTAMP:20250416T100814Z
DTSTART:20250424T153000Z
DTEND:20250424T173000Z
END:VEVENT
END:VCALENDAR
