BEGIN:VCALENDAR
VERSION:2.0
PRODID:https://github.com/derhansen/sf_event_mgt
METHOD:PUBLISH
BEGIN:VEVENT
UID:100-122@www.diakovere.de
CLASS: PUBLIC
SUMMARY:TAG DER BEGEGNUNG 24. April 2026
DESCRIPTION:Herzliche Einladung zum Tag der BegegnungFreitag, 24. April, 9 
 – 13 UhrDIAKOVERE Henriettenstift, Großer Saal,Marienstraße 72–90, 30171 Ha
 nnover\n\nMelden Sie sich an zu einem Tag mit interaktiven Workshops, die H
 orizonte erweitern, Verbindungen schaffen und persönlich stärken. \n\n\n\nD
 IAKOVERE LEBEN UND GLAUBEN\n\nHAUS DER BEGEGNUNG ist die Nachfolgeorganisat
 ion der Kirchengemeinden innerhalb von DIAKOVERE.Damit schafft das Unterneh
 men eine Struktur zur Weiterentwicklung seines diakonisch-geistlichen Profi
 ls.\n\nMit unseren Lebensformen und unseren Angeboten tragen wir zur Förder
 ung des diakonisch-geistlichenLebens im Unternehmen, in der Stadtgesellscha
 ft und in der lutherischen Landeskirche Hannovers bei.\n\nWir als DIAKOVERE
  LEBEN UND GLAUBEN\n\nstärken diakonische Wertevernetzen uns untereinander 
 und mit anderenmachen Angebote und beraten zum diakonischen Profil\n\nWeite
 re Informationen per Mail unter veranstaltungen@diakovere.de.
LOCATION:DIAKOVERE Henriettenstift (Großer Saal)
DTSTAMP:20260313T104303Z
DTSTART:20260424T070000Z
END:VEVENT
END:VCALENDAR
