BEGIN:VCALENDAR
VERSION:2.0
PRODID:https://github.com/derhansen/sf_event_mgt
METHOD:PUBLISH
BEGIN:VEVENT
UID:101-122@www.diakovere.de
CLASS: PUBLIC
SUMMARY:Tatort Gesundheitswesen
DESCRIPTION:True Crime trifft Realität: Am 28. April 2026 wird das Henriett
 enstift zum Schauplatz eines besonderen Abends. Unter dem Titel „Tatort Ges
 undheitswesen: Live – True Crime & Talk“ erwartet die Besucher*innen eine s
 pannende Mischung aus Podcast-Highlights und Diskussion.\n\nMit dabei ist u
 nter anderem Hannovers Star-Anwalt Matthias Waldraff, der gemeinsam mit wei
 teren Gästen Einblicke in echte Kriminalfälle gibt. Präsentiert wird das Be
 ste aus sieben Staffeln des NP-Podcasts. \n\nIm Anschluss geht es in die ve
 rtiefende Diskussion zum Thema „Gewalt im Gesundheitswesen“ – mit Expert*in
 nen aus Medien, Medizin und Polizei, darunter NP-Chefredakteur Carsten Berg
 mann, DIAKOVERE-Chefarzt Prof. Dr. André Gottschalk und der frühere Polizei
 chef Volker Kluwe.\n\nDie Veranstaltung beginnt um 18.30 Uhr im Großen Saal
  des Henriettenstifts (Einlass ab 17.30 Uhr). \n\nDer Eintritt ist frei, ei
 ne Anmeldung ist erforderlich.\n\nJetzt anmelden! 
LOCATION:DIAKOVERE Henriettenstift (Großer Saal)
DTSTAMP:20260408T125825Z
DTSTART:20260428T163000Z
DTEND:20260428T183000Z
END:VEVENT
END:VCALENDAR
